BEGIN:VCALENDAR
VERSION:2.0
PRODID:-//eventon.com NONSGML v1.0//EN
CALSCALE:GREGORIAN
METHOD:PUBLISH
BEGIN:VEVENT
UID:69e9da1fb61ca
DTSTAMP:20260423T083647Z
DTSTART:20250311T090000Z
DTEND:20250311T225900Z
LOCATION:Piccolo Theater Erich Kästner Platz 03046 Cottbus
SUMMARY:Das Katzenhaus
DESCRIPTION:Ein Musiktheater für Kinder ab 5 Jahren Musik von Hans-Peter P
 reu / Text von Samuil Marschak Nachdichtung von Martin Remané Der Operncho
 r des Staatstheater Cottbus singt und spielt im Piccolo Theater Regie: Heid
 i Zengerle / Musikalische Leitung: Christian Möbius Die Katze Koschka ist 
 reich und hochmütig. Vor allen Tieren prahlt[..]\nhttps://piccolo-cottbus.
 de/events/das-katzenhaus/
URL:https://piccolo-cottbus.de/events/das-katzenhaus/
END:VEVENT
END:VCALENDAR