BEGIN:VCALENDAR
VERSION:2.0
PRODID:-//eventon.com NONSGML v1.0//EN
CALSCALE:GREGORIAN
METHOD:PUBLISH
BEGIN:VEVENT
UID:69e9da9228147
DTSTAMP:20260423T083842Z
DTSTART:20260322T140000Z
DTEND:20260322T225900Z
LOCATION:Piccolo Theater Erich Kästner Platz 03046 Cottbus
SUMMARY:Jonas
DESCRIPTION:Ein mutiges Schauspiel von Daniel Ratthei für Kinder ab 8 Jahr
 enEs spielt: Florian JähneAusstattung Veronica Silva-Klug. Regie Daniel Ra
 tthei Zwischen 2020 und 2022 ließ eine Mutter in Nersac (Frankreich) ihren
  damals neunjährigen Sohn allein in einer Sozialwohnung zurück. Sie zog z
 u ihrem Partner und kümmerte sich kaum um das Kind.[..]\nhttps://piccolo-c
 ottbus.de/events/jonas/var/ri-1.l-L1
URL:https://piccolo-cottbus.de/events/jonas/var/ri-1.l-L1
END:VEVENT
END:VCALENDAR